BEGIN:VCALENDAR
VERSION:2.0
PRODID:-//WERS 88.9FM - ECPv6.15.18//NONSGML v1.0//EN
CALSCALE:GREGORIAN
METHOD:PUBLISH
X-WR-CALNAME:WERS 88.9FM
X-ORIGINAL-URL:https://wers.org
X-WR-CALDESC:Events for WERS 88.9FM
REFRESH-INTERVAL;VALUE=DURATION:PT1H
X-Robots-Tag:noindex
X-PUBLISHED-TTL:PT1H
BEGIN:VTIMEZONE
TZID:America/New_York
BEGIN:DAYLIGHT
TZOFFSETFROM:-0500
TZOFFSETTO:-0400
TZNAME:EDT
DTSTART:20250309T070000
END:DAYLIGHT
BEGIN:STANDARD
TZOFFSETFROM:-0400
TZOFFSETTO:-0500
TZNAME:EST
DTSTART:20251102T060000
END:STANDARD
BEGIN:DAYLIGHT
TZOFFSETFROM:-0500
TZOFFSETTO:-0400
TZNAME:EDT
DTSTART:20260308T070000
END:DAYLIGHT
BEGIN:STANDARD
TZOFFSETFROM:-0400
TZOFFSETTO:-0500
TZNAME:EST
DTSTART:20261101T060000
END:STANDARD
BEGIN:DAYLIGHT
TZOFFSETFROM:-0500
TZOFFSETTO:-0400
TZNAME:EDT
DTSTART:20270314T070000
END:DAYLIGHT
BEGIN:STANDARD
TZOFFSETFROM:-0400
TZOFFSETTO:-0500
TZNAME:EST
DTSTART:20271107T060000
END:STANDARD
END:VTIMEZONE
BEGIN:VEVENT
DTSTART;TZID=America/New_York:20260328T140000
DTEND;TZID=America/New_York:20260328T210000
DTSTAMP:20260423T180200
CREATED:20260325T131750Z
LAST-MODIFIED:20260325T131750Z
UID:10000634-1774706400-1774731600@wers.org
SUMMARY:Pedal for the Cure (featuring Air Traffic Controller)
DESCRIPTION:Pedal for the Cure supports the Pan-Mass Challenge and the Dana-Farber Cancer Research Institute. \nSaturday\, March 28th at the Midway Cafe in Jamaica Plain. \nDoors at 2:00\, music starts at 2:30. Air Traffic Controller goes on at 6:30. \n100% of the proceeds go directly to Dana-Farber. \nALL AGES \n$20 cover (cash only venue)
URL:https://wers.org/event/pedal-for-the-cure-featuring-air-traffic-controller/
LOCATION:Midway Cafe\, 3496 Washington Street\, Jamaica Plain\, MA\, 02130\, United States
ATTACH;FMTTYPE=image/jpeg:https://wers.org/wp-content/uploads/2026/03/scaled_1024.jpg
END:VEVENT
END:VCALENDAR