BEGIN:VCALENDAR
VERSION:2.0
PRODID:-//WERS 88.9FM - ECPv6.15.18//NONSGML v1.0//EN
CALSCALE:GREGORIAN
METHOD:PUBLISH
X-WR-CALNAME:WERS 88.9FM
X-ORIGINAL-URL:https://wers.org
X-WR-CALDESC:Events for WERS 88.9FM
REFRESH-INTERVAL;VALUE=DURATION:PT1H
X-Robots-Tag:noindex
X-PUBLISHED-TTL:PT1H
BEGIN:VTIMEZONE
TZID:America/New_York
BEGIN:DAYLIGHT
TZOFFSETFROM:-0500
TZOFFSETTO:-0400
TZNAME:EDT
DTSTART:20240310T070000
END:DAYLIGHT
BEGIN:STANDARD
TZOFFSETFROM:-0400
TZOFFSETTO:-0500
TZNAME:EST
DTSTART:20241103T060000
END:STANDARD
BEGIN:DAYLIGHT
TZOFFSETFROM:-0500
TZOFFSETTO:-0400
TZNAME:EDT
DTSTART:20250309T070000
END:DAYLIGHT
BEGIN:STANDARD
TZOFFSETFROM:-0400
TZOFFSETTO:-0500
TZNAME:EST
DTSTART:20251102T060000
END:STANDARD
BEGIN:DAYLIGHT
TZOFFSETFROM:-0500
TZOFFSETTO:-0400
TZNAME:EDT
DTSTART:20260308T070000
END:DAYLIGHT
BEGIN:STANDARD
TZOFFSETFROM:-0400
TZOFFSETTO:-0500
TZNAME:EST
DTSTART:20261101T060000
END:STANDARD
BEGIN:DAYLIGHT
TZOFFSETFROM:-0500
TZOFFSETTO:-0400
TZNAME:EDT
DTSTART:20270314T070000
END:DAYLIGHT
BEGIN:STANDARD
TZOFFSETFROM:-0400
TZOFFSETTO:-0500
TZNAME:EST
DTSTART:20271107T060000
END:STANDARD
END:VTIMEZONE
BEGIN:VEVENT
DTSTART;TZID=America/New_York:20260316T190000
DTEND;TZID=America/New_York:20260316T230000
DTSTAMP:20260422T065717
CREATED:20251104T191752Z
LAST-MODIFIED:20251104T191752Z
UID:10000195-1773687600-1773702000@wers.org
SUMMARY:Dropkick Murphys
DESCRIPTION:Dropkick Murphys return to MGM Music Hall at Fenway for their annual St. Patty’s weekend shows! \nSee them Fri Mar 13\, Sat Mar 14\, and Sun Mar 15. \nHaywire will be opening all 3 shows\, with more TBA. \nTickets and more info here. \n 
URL:https://wers.org/event/dropkick-murphys/2026-03-16/
LOCATION:MGM Music Hall at Fenway\, 2 Lansdowne St\, Boston\, MA 02215\, Boston\, Massachussetts\, 02215
CATEGORIES:Concert
ATTACH;FMTTYPE=image/jpeg:https://wers.org/wp-content/uploads/2025/11/031326_DKM.jpg
END:VEVENT
BEGIN:VEVENT
DTSTART;TZID=America/New_York:20260315T190000
DTEND;TZID=America/New_York:20260315T230000
DTSTAMP:20260422T065717
CREATED:20251104T191752Z
LAST-MODIFIED:20251104T191752Z
UID:10000194-1773601200-1773615600@wers.org
SUMMARY:Dropkick Murphys
DESCRIPTION:Dropkick Murphys return to MGM Music Hall at Fenway for their annual St. Patty’s weekend shows! \nSee them Fri Mar 13\, Sat Mar 14\, and Sun Mar 15. \nHaywire will be opening all 3 shows\, with more TBA. \nTickets and more info here. \n 
URL:https://wers.org/event/dropkick-murphys/2026-03-15/
LOCATION:MGM Music Hall at Fenway\, 2 Lansdowne St\, Boston\, MA 02215\, Boston\, Massachussetts\, 02215
CATEGORIES:Concert
ATTACH;FMTTYPE=image/jpeg:https://wers.org/wp-content/uploads/2025/11/031326_DKM.jpg
END:VEVENT
BEGIN:VEVENT
DTSTART;TZID=America/New_York:20260314T190000
DTEND;TZID=America/New_York:20260314T230000
DTSTAMP:20260422T065717
CREATED:20251104T191752Z
LAST-MODIFIED:20251104T191752Z
UID:10000193-1773514800-1773529200@wers.org
SUMMARY:Dropkick Murphys
DESCRIPTION:Dropkick Murphys return to MGM Music Hall at Fenway for their annual St. Patty’s weekend shows! \nSee them Fri Mar 13\, Sat Mar 14\, and Sun Mar 15. \nHaywire will be opening all 3 shows\, with more TBA. \nTickets and more info here. \n 
URL:https://wers.org/event/dropkick-murphys/2026-03-14/
LOCATION:MGM Music Hall at Fenway\, 2 Lansdowne St\, Boston\, MA 02215\, Boston\, Massachussetts\, 02215
CATEGORIES:Concert
ATTACH;FMTTYPE=image/jpeg:https://wers.org/wp-content/uploads/2025/11/031326_DKM.jpg
END:VEVENT
BEGIN:VEVENT
DTSTART;TZID=America/New_York:20260306T200000
DTEND;TZID=America/New_York:20260306T230000
DTSTAMP:20260422T065717
CREATED:20251104T191105Z
LAST-MODIFIED:20251104T191105Z
UID:10000192-1772827200-1772838000@wers.org
SUMMARY:Rainbow Kitten Surprise
DESCRIPTION:Rainbow Kitten Surprise bring their “bones” tour to MGM Music Hall At Fenway Fri Mar 6. \nWith special guests Common People. \nTickets and more info here.
URL:https://wers.org/event/rainbow-kitten-surprise/
LOCATION:MGM Music Hall at Fenway\, 2 Lansdowne St\, Boston\, MA 02215\, Boston\, Massachussetts\, 02215
CATEGORIES:Concert
ATTACH;FMTTYPE=image/jpeg:https://wers.org/wp-content/uploads/2025/11/030626_RainbowKittenSurprise_1200x1200.jpg
END:VEVENT
BEGIN:VEVENT
DTSTART;TZID=America/New_York:20251121T193000
DTEND;TZID=America/New_York:20251121T230000
DTSTAMP:20260422T065717
CREATED:20251104T182748Z
LAST-MODIFIED:20251104T182804Z
UID:10000184-1763753400-1763766000@wers.org
SUMMARY:Ripe
DESCRIPTION:Ripe brings a perfect fusion of R&B groove with rock music. They’ll be at MGM Music Hall at Fenway Fri Nov 21 with special guest Allen Stone. \nBe sure to check this concert out! \nTickets and more information can be found here
URL:https://wers.org/event/ripe/
LOCATION:MGM Music Hall at Fenway\, 2 Lansdowne St\, Boston\, MA 02215\, Boston\, Massachussetts\, 02215
CATEGORIES:Concert
ATTACH;FMTTYPE=image/jpeg:https://wers.org/wp-content/uploads/2025/09/112125_RIPE-scaled.jpg
END:VEVENT
BEGIN:VEVENT
DTSTART;TZID=America/New_York:20251030T200000
DTEND;TZID=America/New_York:20251030T230000
DTSTAMP:20260422T065717
CREATED:20250923T220139Z
LAST-MODIFIED:20250923T220603Z
UID:10000039-1761854400-1761865200@wers.org
SUMMARY:Cage the Elephant
DESCRIPTION:One of the most influential garage-rock bands of all time\, Cage the Elephant plays MGM Music Hall! \nTickets and more information can be found here
URL:https://wers.org/event/cage-the-elephant/
LOCATION:MGM Music Hall at Fenway\, 2 Lansdowne St\, Boston\, MA 02215\, Boston\, Massachussetts\, 02215
CATEGORIES:Concert
ATTACH;FMTTYPE=image/jpeg:https://wers.org/wp-content/uploads/2025/09/103025_CageTheElephant_pre.jpg
END:VEVENT
BEGIN:VEVENT
DTSTART;TZID=America/New_York:20251021T200000
DTEND;TZID=America/New_York:20251021T230000
DTSTAMP:20260422T065717
CREATED:20250923T134557Z
LAST-MODIFIED:20250923T134557Z
UID:10000034-1761076800-1761087600@wers.org
SUMMARY:Big Thief
DESCRIPTION:Experience the new hit album\, Double Infinity\, by Big Thief live! \nTickets and more information can be found here
URL:https://wers.org/event/big-thief/
LOCATION:MGM Music Hall at Fenway\, 2 Lansdowne St\, Boston\, MA 02215\, Boston\, Massachussetts\, 02215
CATEGORIES:Concert
ATTACH;FMTTYPE=image/jpeg:https://wers.org/wp-content/uploads/2025/09/102125_BigThief_1200x1200.jpg
END:VEVENT
BEGIN:VEVENT
DTSTART;TZID=America/New_York:20251017T200000
DTEND;TZID=America/New_York:20251017T230000
DTSTAMP:20260422T065717
CREATED:20250922T182302Z
LAST-MODIFIED:20250922T182302Z
UID:10000031-1760731200-1760742000@wers.org
SUMMARY:Psychedelic Furs
DESCRIPTION:As the name suggests\, don’t miss out on a psychedelic experience with Psychedelic Furs! \nTickets and more information can be found here
URL:https://wers.org/event/psychedelic-furs/
LOCATION:MGM Music Hall at Fenway\, 2 Lansdowne St\, Boston\, MA 02215\, Boston\, Massachussetts\, 02215
CATEGORIES:Concert
ATTACH;FMTTYPE=image/jpeg:https://wers.org/wp-content/uploads/2025/09/101725_ThePsychedelicFurs_pre.jpg
END:VEVENT
BEGIN:VEVENT
DTSTART;TZID=America/New_York:20251015T200000
DTEND;TZID=America/New_York:20251015T230000
DTSTAMP:20260422T065717
CREATED:20250922T181653Z
LAST-MODIFIED:20250922T181653Z
UID:10000030-1760558400-1760569200@wers.org
SUMMARY:Modest Mouse
DESCRIPTION:Don’t miss out on your chance to see an ever-changing and growing band like Modest Mouse! \nTickets and more information can be found here
URL:https://wers.org/event/modest-mouse/
LOCATION:MGM Music Hall at Fenway\, 2 Lansdowne St\, Boston\, MA 02215\, Boston\, Massachussetts\, 02215
CATEGORIES:Concert
ATTACH;FMTTYPE=image/jpeg:https://wers.org/wp-content/uploads/2025/09/101525_ModestMouse.jpg
END:VEVENT
BEGIN:VEVENT
DTSTART;TZID=America/New_York:20251013T200000
DTEND;TZID=America/New_York:20251013T230000
DTSTAMP:20260422T065717
CREATED:20250922T180439Z
LAST-MODIFIED:20250922T180439Z
UID:10000027-1760385600-1760396400@wers.org
SUMMARY:My Morning Jacket
DESCRIPTION:Don’t miss out on your chance to enjoy groovy alt-rock with My Morning Jacket \nTickets and more information can be found here
URL:https://wers.org/event/my-morning-jacket/
LOCATION:MGM Music Hall at Fenway\, 2 Lansdowne St\, Boston\, MA 02215\, Boston\, Massachussetts\, 02215
CATEGORIES:Concert
ATTACH;FMTTYPE=image/jpeg:https://wers.org/wp-content/uploads/2025/09/101325_MyMorningJacket.jpg
END:VEVENT
BEGIN:VEVENT
DTSTART;TZID=America/New_York:20251010T200000
DTEND;TZID=America/New_York:20251010T230000
DTSTAMP:20260422T065717
CREATED:20250922T175617Z
LAST-MODIFIED:20250922T180134Z
UID:10000025-1760126400-1760137200@wers.org
SUMMARY:Royel Otis
DESCRIPTION:Don’t miss out on the chance to experience Australian indie-rock sensation Royel Otis! \nTickets and more information can be found here
URL:https://wers.org/event/royel-otis/
LOCATION:MGM Music Hall at Fenway\, 2 Lansdowne St\, Boston\, MA 02215\, Boston\, Massachussetts\, 02215
CATEGORIES:Concert
ATTACH;FMTTYPE=image/jpeg:https://wers.org/wp-content/uploads/2025/09/101025_RoyelOtis.jpg
END:VEVENT
BEGIN:VEVENT
DTSTART;TZID=America/New_York:20250927T200000
DTEND;TZID=America/New_York:20250927T230000
DTSTAMP:20260422T065717
CREATED:20250903T221158Z
LAST-MODIFIED:20250903T221158Z
UID:10000021-1759003200-1759014000@wers.org
SUMMARY:Car Seat Headrest
DESCRIPTION:Are you looking for something to fulfill your need to yearn? Then make sure to get tickets to see Car Seat Headrest! \nTickets and more information can be found here
URL:https://wers.org/event/car-seat-headrest/
LOCATION:MGM Music Hall at Fenway\, 2 Lansdowne St\, Boston\, MA 02215\, Boston\, Massachussetts\, 02215
ATTACH;FMTTYPE=image/jpeg:https://wers.org/wp-content/uploads/2025/09/092725_CarSeatHeadrest.jpg
END:VEVENT
BEGIN:VEVENT
DTSTART;TZID=America/New_York:20250922T200000
DTEND;TZID=America/New_York:20250922T230000
DTSTAMP:20260422T065717
CREATED:20250903T185924Z
LAST-MODIFIED:20250903T190146Z
UID:10000018-1758571200-1758582000@wers.org
SUMMARY:Elvis Costello
DESCRIPTION:If you are looking for a funk\, rock fusion\, then the Elvis Costello concert is exactly where you want to be! \nTickets and more information can be found here
URL:https://wers.org/event/elvis-costello/
LOCATION:MGM Music Hall at Fenway\, 2 Lansdowne St\, Boston\, MA 02215\, Boston\, Massachussetts\, 02215
CATEGORIES:Concert
ATTACH;FMTTYPE=image/jpeg:https://wers.org/wp-content/uploads/2025/09/092225_ElvisCostello.jpg
END:VEVENT
BEGIN:VEVENT
DTSTART;TZID=America/New_York:20250914T200000
DTEND;TZID=America/New_York:20250914T230000
DTSTAMP:20260422T065717
CREATED:20250903T141649Z
LAST-MODIFIED:20250903T190050Z
UID:10000010-1757880000-1757890800@wers.org
SUMMARY:Alabama Shakes
DESCRIPTION:Don’t miss out on the opportunity to experience southern rock and the blues in one with the Alabama Shakes. \nTickets and more information can be found here
URL:https://wers.org/event/alabama-shakes/
LOCATION:MGM Music Hall at Fenway\, 2 Lansdowne St\, Boston\, MA 02215\, Boston\, Massachussetts\, 02215
CATEGORIES:Concert
ATTACH;FMTTYPE=image/jpeg:https://wers.org/wp-content/uploads/2025/09/091425_AlabamaShakes_Horizontal-scaled.jpg
END:VEVENT
BEGIN:VEVENT
DTSTART;TZID=America/New_York:20250911T200000
DTEND;TZID=America/New_York:20250911T230000
DTSTAMP:20260422T065717
CREATED:20250902T180345Z
LAST-MODIFIED:20250903T190036Z
UID:10000008-1757620800-1757631600@wers.org
SUMMARY:Joe Russo's Almost Dead
DESCRIPTION:If you are a Deadhead\, then don’t miss out on Joe Russo’s Almost Dead! A band that covers many of the Grateful Dead’s biggest songs! \nTickets and more information can be found here
URL:https://wers.org/event/joe-russos-almost-dead/
LOCATION:MGM Music Hall at Fenway\, 2 Lansdowne St\, Boston\, MA 02215\, Boston\, Massachussetts\, 02215
CATEGORIES:Concert
ATTACH;FMTTYPE=image/jpeg:https://wers.org/wp-content/uploads/2025/09/091125_JRAD_Horizontal.jpg
END:VEVENT
BEGIN:VEVENT
DTSTART;TZID=America/New_York:20250907T200000
DTEND;TZID=America/New_York:20250907T230000
DTSTAMP:20260422T065717
CREATED:20250902T143204Z
LAST-MODIFIED:20250903T190025Z
UID:10000004-1757275200-1757286000@wers.org
SUMMARY:Rilo Kiley
DESCRIPTION:Don’t miss out on your chance to see Rilo Kiley live! \nTickets and more information can be found here
URL:https://wers.org/event/rilo-kiley/
LOCATION:MGM Music Hall at Fenway\, 2 Lansdowne St\, Boston\, MA 02215\, Boston\, Massachussetts\, 02215
CATEGORIES:Concert
ATTACH;FMTTYPE=image/jpeg:https://wers.org/wp-content/uploads/2025/09/090725_RiloKiley.jpg
END:VEVENT
END:VCALENDAR