BEGIN:VCALENDAR
VERSION:2.0
PRODID:-//WERS 88.9FM - ECPv6.15.18//NONSGML v1.0//EN
CALSCALE:GREGORIAN
METHOD:PUBLISH
X-WR-CALNAME:WERS 88.9FM
X-ORIGINAL-URL:https://wers.org
X-WR-CALDESC:Events for WERS 88.9FM
REFRESH-INTERVAL;VALUE=DURATION:PT1H
X-Robots-Tag:noindex
X-PUBLISHED-TTL:PT1H
BEGIN:VTIMEZONE
TZID:America/New_York
BEGIN:DAYLIGHT
TZOFFSETFROM:-0500
TZOFFSETTO:-0400
TZNAME:EDT
DTSTART:20250309T070000
END:DAYLIGHT
BEGIN:STANDARD
TZOFFSETFROM:-0400
TZOFFSETTO:-0500
TZNAME:EST
DTSTART:20251102T060000
END:STANDARD
BEGIN:DAYLIGHT
TZOFFSETFROM:-0500
TZOFFSETTO:-0400
TZNAME:EDT
DTSTART:20260308T070000
END:DAYLIGHT
BEGIN:STANDARD
TZOFFSETFROM:-0400
TZOFFSETTO:-0500
TZNAME:EST
DTSTART:20261101T060000
END:STANDARD
BEGIN:DAYLIGHT
TZOFFSETFROM:-0500
TZOFFSETTO:-0400
TZNAME:EDT
DTSTART:20270314T070000
END:DAYLIGHT
BEGIN:STANDARD
TZOFFSETFROM:-0400
TZOFFSETTO:-0500
TZNAME:EST
DTSTART:20271107T060000
END:STANDARD
END:VTIMEZONE
BEGIN:VEVENT
DTSTART;TZID=America/New_York:20260620T183000
DTEND;TZID=America/New_York:20260620T213000
DTSTAMP:20260419T043351
CREATED:20260219T142015Z
LAST-MODIFIED:20260219T142015Z
UID:10000618-1781980200-1781991000@wers.org
SUMMARY:Young the Giant
DESCRIPTION:Don’t miss out on Young the Giant\, one of the most sonically unique bands of the past decade! \nTickets and more information can be found here.
URL:https://wers.org/event/young-the-giant/
LOCATION:Leader Bank Pavilion\, 290 Northern Ave\, Boston\, MA 02210\, Boston\, Massachussetts\, 02210
CATEGORIES:Concert
ATTACH;FMTTYPE=image/jpeg:https://wers.org/wp-content/uploads/2026/02/Static_Social-Instagram_1080x1080_YoungTheGiant_2026_Regional_LeaderBankPavilion_0620.jpg
END:VEVENT
BEGIN:VEVENT
DTSTART;TZID=America/New_York:20260630T190000
DTEND;TZID=America/New_York:20260701T190000
DTSTAMP:20260419T043351
CREATED:20260126T204718Z
LAST-MODIFIED:20260410T132056Z
UID:10000594-1782846000-1782932400@wers.org
SUMMARY:Goose
DESCRIPTION:Don’t miss your chance to see Goose live and in action this summer! \nTickets on sale now
URL:https://wers.org/event/goose/
LOCATION:Leader Bank Pavilion\, 290 Northern Ave\, Boston\, MA 02210\, Boston\, Massachussetts\, 02210
CATEGORIES:Concert
ATTACH;FMTTYPE=image/jpeg:https://wers.org/wp-content/uploads/2026/01/Static_Social-Instagram_1080x1080_Goose_Summer_2026_Regional_LeaderBankPavilion_0630-1.jpg
END:VEVENT
BEGIN:VEVENT
DTSTART;VALUE=DATE:20260710
DTEND;VALUE=DATE:20260711
DTSTAMP:20260419T043351
CREATED:20260212T153540Z
LAST-MODIFIED:20260212T153552Z
UID:10000614-1783641600-1783727999@wers.org
SUMMARY:Sarah McLachlan
DESCRIPTION:Don’t miss out on a night with the powerful and evocative voice of Sarah McLachlan! \nTickets on sale Thursday\, February 17th at 10:00 A.M.
URL:https://wers.org/event/sarah-mclachlan/
LOCATION:Leader Bank Pavilion\, 290 Northern Ave\, Boston\, MA 02210\, Boston\, Massachussetts\, 02210
CATEGORIES:Concert
ATTACH;FMTTYPE=image/jpeg:https://wers.org/wp-content/uploads/2026/02/Static_Social-Instagram_1080x1080_SarahMclachlan_2026_Regional_LeaderBankPavilion_0710.jpg
END:VEVENT
BEGIN:VEVENT
DTSTART;TZID=America/New_York:20260731T190000
DTEND;TZID=America/New_York:20260731T220000
DTSTAMP:20260419T043351
CREATED:20260121T161731Z
LAST-MODIFIED:20260121T161731Z
UID:10000589-1785524400-1785535200@wers.org
SUMMARY:Tori Amos
DESCRIPTION:Don’t miss out on a chance to see Tori Amos on her In Times of Dragons Tour! \nHer album will be released on May 31.
URL:https://wers.org/event/tori-amos/
LOCATION:Leader Bank Pavilion\, 290 Northern Ave\, Boston\, MA 02210\, Boston\, Massachussetts\, 02210
CATEGORIES:Concert
ATTACH;FMTTYPE=image/jpeg:https://wers.org/wp-content/uploads/2026/01/Static_Social-Instagram_1080x1080_ToriAmos_2026_Regional_LeaderBankPavilion_0731-1.jpg
END:VEVENT
BEGIN:VEVENT
DTSTART;TZID=America/New_York:20260814T180000
DTEND;TZID=America/New_York:20260814T213000
DTSTAMP:20260419T043351
CREATED:20260121T161347Z
LAST-MODIFIED:20260121T161347Z
UID:10000588-1786730400-1786743000@wers.org
SUMMARY:Blues Traveler with Gin Blossoms and Spin Doctors
DESCRIPTION:Bring back 80s rock with Blues Traveler\, Gin Blossoms\, and Spin Doctors!
URL:https://wers.org/event/blues-traveler-with-gin-blossoms-and-spin-doctors/
LOCATION:Leader Bank Pavilion\, 290 Northern Ave\, Boston\, MA 02210\, Boston\, Massachussetts\, 02210
CATEGORIES:Concert
ATTACH;FMTTYPE=image/jpeg:https://wers.org/wp-content/uploads/2026/01/Static_Social-Instagram_1080x1080_BluesTraveler_2026_Regional_LeaderBankPavilion_0814.jpg
END:VEVENT
BEGIN:VEVENT
DTSTART;TZID=America/New_York:20260915T183000
DTEND;TZID=America/New_York:20260915T230000
DTSTAMP:20260419T043351
CREATED:20251104T203548Z
LAST-MODIFIED:20251208T174355Z
UID:10000204-1789497000-1789513200@wers.org
SUMMARY:O.A.R.\, Gavin DeGraw\, and KT Tunstall
DESCRIPTION:O.A.R. brings their “Three Decades” tour to Leader Bank Pavilion Tue Sep 15. \nWith Gavin DeGraw and KT Tunstall. \nTickets and more info here.
URL:https://wers.org/event/o-a-r-and-kt-tunstall/
LOCATION:Leader Bank Pavilion\, 290 Northern Ave\, Boston\, MA 02210\, Boston\, Massachussetts\, 02210
CATEGORIES:Concert
ATTACH;FMTTYPE=image/jpeg:https://wers.org/wp-content/uploads/2025/11/Static_Social-Instagram_1080x1080_OAR_2026_Regional_LeaderBankPavilion_0915-1.jpg
END:VEVENT
BEGIN:VEVENT
DTSTART;VALUE=DATE:20260916
DTEND;VALUE=DATE:20260917
DTSTAMP:20260419T043351
CREATED:20260219T142312Z
LAST-MODIFIED:20260219T142312Z
UID:10000619-1789516800-1789603199@wers.org
SUMMARY:Thee Sacred Souls
DESCRIPTION:Soul has been back for a while\, and Thee Sacred Souls are one of the groups at the forefront of this revival! Don’t miss out on your chance to see them! \nTickets and more information can be found here.
URL:https://wers.org/event/thee-sacred-souls/
LOCATION:Leader Bank Pavilion\, 290 Northern Ave\, Boston\, MA 02210\, Boston\, Massachussetts\, 02210
CATEGORIES:Concert
ATTACH;FMTTYPE=image/jpeg:https://wers.org/wp-content/uploads/2026/02/Static_Social-Instagram_1080x1080_TheeSacredSouls_2026_Regional_LeaderBankPavilion_0918.jpg
END:VEVENT
BEGIN:VEVENT
DTSTART;TZID=America/New_York:20260925T190000
DTEND;TZID=America/New_York:20260925T230000
DTSTAMP:20260419T043351
CREATED:20251104T204159Z
LAST-MODIFIED:20251104T204159Z
UID:10000205-1790362800-1790377200@wers.org
SUMMARY:Ray LaMontagne
DESCRIPTION:See Ray LaMontagne on his “Trouble” 20th Anniversary Tour. \nDue to a lengthy healing process after an unexpected oral surgery\, Ray LaMontagne’s performance at Leader Bank Pavilion\, (originally scheduled for September 26 & 27\, 2025\,) has been rescheduled to September 25 & 26\, 2026. \nAll previously issued tickets will be honored for the new date. \nTickets and more info here.
URL:https://wers.org/event/ray-lamontagne/2026-09-25/
LOCATION:Leader Bank Pavilion\, 290 Northern Ave\, Boston\, MA 02210\, Boston\, Massachussetts\, 02210
CATEGORIES:Concert
ATTACH;FMTTYPE=image/jpeg:https://wers.org/wp-content/uploads/2025/11/Static_Social_1080x1080_RayLamontagne_2025_Regional_LeaderBankPavilion_0926.jpg
END:VEVENT
BEGIN:VEVENT
DTSTART;TZID=America/New_York:20260926T190000
DTEND;TZID=America/New_York:20260926T230000
DTSTAMP:20260419T043351
CREATED:20251104T204159Z
LAST-MODIFIED:20251104T204159Z
UID:10000206-1790449200-1790463600@wers.org
SUMMARY:Ray LaMontagne
DESCRIPTION:See Ray LaMontagne on his “Trouble” 20th Anniversary Tour. \nDue to a lengthy healing process after an unexpected oral surgery\, Ray LaMontagne’s performance at Leader Bank Pavilion\, (originally scheduled for September 26 & 27\, 2025\,) has been rescheduled to September 25 & 26\, 2026. \nAll previously issued tickets will be honored for the new date. \nTickets and more info here.
URL:https://wers.org/event/ray-lamontagne/2026-09-26/
LOCATION:Leader Bank Pavilion\, 290 Northern Ave\, Boston\, MA 02210\, Boston\, Massachussetts\, 02210
CATEGORIES:Concert
ATTACH;FMTTYPE=image/jpeg:https://wers.org/wp-content/uploads/2025/11/Static_Social_1080x1080_RayLamontagne_2025_Regional_LeaderBankPavilion_0926.jpg
END:VEVENT
END:VCALENDAR