BEGIN:VCALENDAR
VERSION:2.0
PRODID:-//WERS 88.9FM - ECPv6.15.18//NONSGML v1.0//EN
CALSCALE:GREGORIAN
METHOD:PUBLISH
X-ORIGINAL-URL:https://wers.org
X-WR-CALDESC:Events for WERS 88.9FM
REFRESH-INTERVAL;VALUE=DURATION:PT1H
X-Robots-Tag:noindex
X-PUBLISHED-TTL:PT1H
BEGIN:VTIMEZONE
TZID:America/New_York
BEGIN:DAYLIGHT
TZOFFSETFROM:-0500
TZOFFSETTO:-0400
TZNAME:EDT
DTSTART:20240310T070000
END:DAYLIGHT
BEGIN:STANDARD
TZOFFSETFROM:-0400
TZOFFSETTO:-0500
TZNAME:EST
DTSTART:20241103T060000
END:STANDARD
BEGIN:DAYLIGHT
TZOFFSETFROM:-0500
TZOFFSETTO:-0400
TZNAME:EDT
DTSTART:20250309T070000
END:DAYLIGHT
BEGIN:STANDARD
TZOFFSETFROM:-0400
TZOFFSETTO:-0500
TZNAME:EST
DTSTART:20251102T060000
END:STANDARD
BEGIN:DAYLIGHT
TZOFFSETFROM:-0500
TZOFFSETTO:-0400
TZNAME:EDT
DTSTART:20260308T070000
END:DAYLIGHT
BEGIN:STANDARD
TZOFFSETFROM:-0400
TZOFFSETTO:-0500
TZNAME:EST
DTSTART:20261101T060000
END:STANDARD
BEGIN:DAYLIGHT
TZOFFSETFROM:-0500
TZOFFSETTO:-0400
TZNAME:EDT
DTSTART:20270314T070000
END:DAYLIGHT
BEGIN:STANDARD
TZOFFSETFROM:-0400
TZOFFSETTO:-0500
TZNAME:EST
DTSTART:20271107T060000
END:STANDARD
END:VTIMEZONE
BEGIN:VEVENT
DTSTART;TZID=America/New_York:20260320T190000
DTEND;TZID=America/New_York:20260320T230000
DTSTAMP:20260423T065046
CREATED:20251104T192147Z
LAST-MODIFIED:20251104T192147Z
UID:10000196-1774033200-1774047600@wers.org
SUMMARY:The Hives
DESCRIPTION:The Hives play Citizen’s House of Blues on Friday Mar 20. \nTickets and more info here.
URL:https://wers.org/event/the-hives/
LOCATION:Citizens House of Blues\, 15 Lansdowne St\, Boston\, MA 02215\, Boston\, Massachussetts\, 02215
CATEGORIES:Concert
ATTACH;FMTTYPE=image/jpeg:https://wers.org/wp-content/uploads/2025/11/032026_TheHives.jpg
END:VEVENT
BEGIN:VEVENT
DTSTART;TZID=America/New_York:20260317T180000
DTEND;TZID=America/New_York:20260317T230000
DTSTAMP:20260423T065046
CREATED:20251104T193355Z
LAST-MODIFIED:20251104T195701Z
UID:10000198-1773770400-1773788400@wers.org
SUMMARY:Dropkick Murphys St Patrick's Day Show
DESCRIPTION:It’s a Boston tradition! \nDropkick Murphys play Citizens House of Blues on St Patrick’s Day March 17 \nTickets and more info here. 
URL:https://wers.org/event/dropkick-murphys-st-patricks-day-show/
LOCATION:Citizens House of Blues\, 15 Lansdowne St\, Boston\, MA 02215\, Boston\, Massachussetts\, 02215
CATEGORIES:Concert
ATTACH;FMTTYPE=image/jpeg:https://wers.org/wp-content/uploads/2025/11/031326_DKM.jpg
END:VEVENT
BEGIN:VEVENT
DTSTART;TZID=America/New_York:20260306T190000
DTEND;TZID=America/New_York:20260306T230000
DTSTAMP:20260423T065047
CREATED:20251106T191415Z
LAST-MODIFIED:20251106T191415Z
UID:10000575-1772823600-1772838000@wers.org
SUMMARY:Jesse Welles
DESCRIPTION:Jesse Welles brings his Under The Powerlines tour to Citizens House of Blues Fri Mar 6. \nTickets and more info here.
URL:https://wers.org/event/jesse-welles/
LOCATION:Citizens House of Blues\, 15 Lansdowne St\, Boston\, MA 02215\, Boston\, Massachussetts\, 02215
ATTACH;FMTTYPE=image/jpeg:https://wers.org/wp-content/uploads/2025/11/Jesse-Welles.jpeg
END:VEVENT
BEGIN:VEVENT
DTSTART;TZID=America/New_York:20251129T190000
DTEND;TZID=America/New_York:20251129T230000
DTSTAMP:20260423T065047
CREATED:20251104T183234Z
LAST-MODIFIED:20251104T183234Z
UID:10000185-1764442800-1764457200@wers.org
SUMMARY:Dijon
DESCRIPTION:Dijon plays Citizen’s House of Blues Sat Nov 29. \nTickets and more info here.
URL:https://wers.org/event/dijon/
LOCATION:Citizens House of Blues\, 15 Lansdowne St\, Boston\, MA 02215\, Boston\, Massachussetts\, 02215
ATTACH;FMTTYPE=image/jpeg:https://wers.org/wp-content/uploads/2025/11/c480c69b-c9bd-4342-a5a6-2548de6f3545_EVENT_DETAIL_PAGE_16_9.jpg
END:VEVENT
BEGIN:VEVENT
DTSTART;TZID=America/New_York:20251115T190000
DTEND;TZID=America/New_York:20251115T230000
DTSTAMP:20260423T065047
CREATED:20251104T182057Z
LAST-MODIFIED:20251104T182117Z
UID:10000183-1763233200-1763247600@wers.org
SUMMARY:Josh Ritter
DESCRIPTION:Join Josh Ritter and the Royal City Band Sat Nov 15 at Citizen’s House of Blues. \nTickets available here.
URL:https://wers.org/event/josh-ritter/
LOCATION:Citizens House of Blues\, 15 Lansdowne St\, Boston\, MA 02215\, Boston\, Massachussetts\, 02215
CATEGORIES:Concert
ATTACH;FMTTYPE=image/jpeg:https://wers.org/wp-content/uploads/2025/11/111525_JoshRitter.jpg
END:VEVENT
BEGIN:VEVENT
DTSTART;TZID=America/New_York:20251015T190000
DTEND;TZID=America/New_York:20251015T220000
DTSTAMP:20260423T065047
CREATED:20250922T180808Z
LAST-MODIFIED:20250922T180808Z
UID:10000028-1760554800-1760565600@wers.org
SUMMARY:Gigi Perez
DESCRIPTION:Don’t miss out on songs like “Sailor Song” with Gigi Perez! \nTickets and more information can be found here
URL:https://wers.org/event/gigi-perez/
LOCATION:Citizens House of Blues\, 15 Lansdowne St\, Boston\, MA 02215\, Boston\, Massachussetts\, 02215
CATEGORIES:Concert
ATTACH;FMTTYPE=image/jpeg:https://wers.org/wp-content/uploads/2025/09/101525_GigiPerez_1200x1200.jpg
END:VEVENT
END:VCALENDAR