BEGIN:VCALENDAR
VERSION:2.0
PRODID:-//WERS 88.9FM - ECPv6.15.18//NONSGML v1.0//EN
CALSCALE:GREGORIAN
METHOD:PUBLISH
X-WR-CALNAME:WERS 88.9FM
X-ORIGINAL-URL:https://wers.org
X-WR-CALDESC:Events for WERS 88.9FM
REFRESH-INTERVAL;VALUE=DURATION:PT1H
X-Robots-Tag:noindex
X-PUBLISHED-TTL:PT1H
BEGIN:VTIMEZONE
TZID:America/New_York
BEGIN:DAYLIGHT
TZOFFSETFROM:-0500
TZOFFSETTO:-0400
TZNAME:EDT
DTSTART:20250309T070000
END:DAYLIGHT
BEGIN:STANDARD
TZOFFSETFROM:-0400
TZOFFSETTO:-0500
TZNAME:EST
DTSTART:20251102T060000
END:STANDARD
BEGIN:DAYLIGHT
TZOFFSETFROM:-0500
TZOFFSETTO:-0400
TZNAME:EDT
DTSTART:20260308T070000
END:DAYLIGHT
BEGIN:STANDARD
TZOFFSETFROM:-0400
TZOFFSETTO:-0500
TZNAME:EST
DTSTART:20261101T060000
END:STANDARD
BEGIN:DAYLIGHT
TZOFFSETFROM:-0500
TZOFFSETTO:-0400
TZNAME:EDT
DTSTART:20270314T070000
END:DAYLIGHT
BEGIN:STANDARD
TZOFFSETFROM:-0400
TZOFFSETTO:-0500
TZNAME:EST
DTSTART:20271107T060000
END:STANDARD
END:VTIMEZONE
BEGIN:VEVENT
DTSTART;TZID=America/New_York:20260418T190000
DTEND;TZID=America/New_York:20260418T230000
DTSTAMP:20260418T152849
CREATED:20251104T200420Z
LAST-MODIFIED:20251104T200420Z
UID:10000200-1776538800-1776553200@wers.org
SUMMARY:The Last Dinner Party
DESCRIPTION:The Last Dinner Party brings their “From the Pyre” tour to Roadrunner Saturday April 18. \nWith special guests Florence Road. \nTickets and more info here.
URL:https://wers.org/event/the-last-dinner-party/
LOCATION:Roadrunner\, 89 Guest Street\, Boston\, MA\, 02315\, United States
CATEGORIES:Concert
ATTACH;FMTTYPE=image/jpeg:https://wers.org/wp-content/uploads/2025/11/0418-Boston-TheLastDinnerParty-1080x1350-1.jpg
END:VEVENT
BEGIN:VEVENT
DTSTART;TZID=America/New_York:20260420T193000
DTEND;TZID=America/New_York:20260420T230000
DTSTAMP:20260418T152849
CREATED:20251104T201543Z
LAST-MODIFIED:20260413T201555Z
UID:10000201-1776713400-1776726000@wers.org
SUMMARY:Florence & The Machine-Date changed!
DESCRIPTION:The Florence + The Machine Boston show scheduled for Sunday\, April 19 has been moved to Monday\, April 20 due to the NBA playoffs.  \nAll tickets will be honored for the new show date. If you’re unable to attend the rescheduled date\, refunds will be available at your original point of purchase. We apologize for any inconvenience this may cause. Unfortunately this decision is beyond our control. \nWith special guest Sofia Isella. \nTickets and more info here.
URL:https://wers.org/event/florence-the-machine/
LOCATION:TD Garden\, 100 Legends Way\, Boston\, MA 02114\, Boston\, Massachussetts\, 02114
CATEGORIES:Concert
ATTACH;FMTTYPE=image/jpeg:https://wers.org/wp-content/uploads/2025/11/Static_Social-Instagram_1080x1080_FlorenceAndTheMachine_2026_Regional_TDGarden_0419-1.jpg
END:VEVENT
BEGIN:VEVENT
DTSTART;TZID=America/New_York:20260422T193000
DTEND;TZID=America/New_York:20260422T220000
DTSTAMP:20260418T152849
CREATED:20251125T141054Z
LAST-MODIFIED:20251125T141054Z
UID:10000579-1776886200-1776895200@wers.org
SUMMARY:Waxahatchee & MJ Lenderman
DESCRIPTION:Waxahatchee & MJ Lenderman play Boch Center Wang Theater on Wednesday April 22 with special guest Brennan Wedl. \nTickets and more info here.
URL:https://wers.org/event/waxahatchee-mj-lenderman/
LOCATION:Boch Center Wang Theatre\, 270 Tremont St\, Boston\, MA 02116\, Boston\, Massachussetts\, 02116
CATEGORIES:Concert
ATTACH;FMTTYPE=image/jpeg:https://wers.org/wp-content/uploads/2025/11/0422-Boston-Waxahatchee_MJLenderman-1080x1350-1.jpg
END:VEVENT
BEGIN:VEVENT
DTSTART;TZID=America/New_York:20260426T190000
DTEND;TZID=America/New_York:20260426T230000
DTSTAMP:20260418T152849
CREATED:20251104T202031Z
LAST-MODIFIED:20251104T202031Z
UID:10000202-1777230000-1777244400@wers.org
SUMMARY:St. Paul & The Broken Bones
DESCRIPTION:St. Paul & The Broken Bones play Citizens House of Blues Sunday April 26. \nWith support from Brother Wallace. \nTickets and more info here. 
URL:https://wers.org/event/st-paul-the-broken-bones/
LOCATION:Citizens House of Blues\, 15 Lansdowne St\, Boston\, MA 02215\, Boston\, Massachussetts\, 02215
CATEGORIES:Concert
ATTACH;FMTTYPE=image/jpeg:https://wers.org/wp-content/uploads/2025/11/042626_StPaulAndTheBrokenBones_1200x1200.jpg
END:VEVENT
BEGIN:VEVENT
DTSTART;TZID=America/New_York:20260427T190000
DTEND;TZID=America/New_York:20260427T220000
DTSTAMP:20260418T152849
CREATED:20260317T152019Z
LAST-MODIFIED:20260317T152019Z
UID:10000631-1777316400-1777327200@wers.org
SUMMARY:Fishbone
DESCRIPTION:Don’t miss out on your chance to see the ever-evolving Fishbone! \nTickets and more information can be found here.
URL:https://wers.org/event/fishbone/
LOCATION:The Sinclair\, 52 Church St\, Cambridge\, MA 02138\, Cambridge\, Massachussetts\, 02138
CATEGORIES:Concert
ATTACH;FMTTYPE=image/jpeg:https://wers.org/wp-content/uploads/2026/03/0427-Fishbone-admat-2026-1080x1350-1.jpg
END:VEVENT
BEGIN:VEVENT
DTSTART;VALUE=DATE:20260430
DTEND;VALUE=DATE:20260504
DTSTAMP:20260418T152849
CREATED:20260225T140233Z
LAST-MODIFIED:20260225T140233Z
UID:10000621-1777507200-1777852799@wers.org
SUMMARY:LCD Soundsystem
DESCRIPTION:LCD Soundsystem\, one of the most innovative bands of all time\, is playing multiple nights in Boston! \nTickets and more information can be found here.
URL:https://wers.org/event/lcd-soundsystem/
LOCATION:Roadrunner\, 89 Guest Street\, Boston\, MA\, 02315\, United States
CATEGORIES:Concert
ATTACH;FMTTYPE=image/jpeg:https://wers.org/wp-content/uploads/2026/02/0430-0503-Boston-LCDSoundsystem-1080x1080-1.jpg
END:VEVENT
END:VCALENDAR