BEGIN:VCALENDAR
VERSION:2.0
PRODID:-//WERS 88.9FM - ECPv6.15.18//NONSGML v1.0//EN
CALSCALE:GREGORIAN
METHOD:PUBLISH
X-WR-CALNAME:WERS 88.9FM
X-ORIGINAL-URL:https://wers.org
X-WR-CALDESC:Events for WERS 88.9FM
REFRESH-INTERVAL;VALUE=DURATION:PT1H
X-Robots-Tag:noindex
X-PUBLISHED-TTL:PT1H
BEGIN:VTIMEZONE
TZID:America/New_York
BEGIN:DAYLIGHT
TZOFFSETFROM:-0500
TZOFFSETTO:-0400
TZNAME:EDT
DTSTART:20250309T070000
END:DAYLIGHT
BEGIN:STANDARD
TZOFFSETFROM:-0400
TZOFFSETTO:-0500
TZNAME:EST
DTSTART:20251102T060000
END:STANDARD
BEGIN:DAYLIGHT
TZOFFSETFROM:-0500
TZOFFSETTO:-0400
TZNAME:EDT
DTSTART:20260308T070000
END:DAYLIGHT
BEGIN:STANDARD
TZOFFSETFROM:-0400
TZOFFSETTO:-0500
TZNAME:EST
DTSTART:20261101T060000
END:STANDARD
BEGIN:DAYLIGHT
TZOFFSETFROM:-0500
TZOFFSETTO:-0400
TZNAME:EDT
DTSTART:20270314T070000
END:DAYLIGHT
BEGIN:STANDARD
TZOFFSETFROM:-0400
TZOFFSETTO:-0500
TZNAME:EST
DTSTART:20271107T060000
END:STANDARD
END:VTIMEZONE
BEGIN:VEVENT
DTSTART;TZID=America/New_York:20260919T200000
DTEND;TZID=America/New_York:20260919T220000
DTSTAMP:20260423T221911
CREATED:20251201T235059Z
LAST-MODIFIED:20251201T235059Z
UID:10000580-1789848000-1789855200@wers.org
SUMMARY:Mt. Joy
DESCRIPTION:One of our favorite indie-folk bands is coming back! That’s right\, Mt. Joy is coming back to Boston! And\, this time\, they are making their return to TD Garden! The first time was so amazing that you won’t want to miss out on your opportunity to see them this time. \nTickets will go on sale Friday\, December 5th!
URL:https://wers.org/event/mt-joy/
LOCATION:TD Garden\, 100 Legends Way\, Boston\, MA 02114\, Boston\, Massachussetts\, 02114
CATEGORIES:Concert
ATTACH;FMTTYPE=image/jpeg:https://wers.org/wp-content/uploads/2025/12/Static_Social-Instagram_1080x1080_MtJoy_2026_Regional_TDGarden_0919.jpg
END:VEVENT
END:VCALENDAR