BEGIN:VCALENDAR
VERSION:2.0
PRODID:-//WERS 88.9FM - ECPv6.15.18//NONSGML v1.0//EN
CALSCALE:GREGORIAN
METHOD:PUBLISH
X-ORIGINAL-URL:https://wers.org
X-WR-CALDESC:Events for WERS 88.9FM
REFRESH-INTERVAL;VALUE=DURATION:PT1H
X-Robots-Tag:noindex
X-PUBLISHED-TTL:PT1H
BEGIN:VTIMEZONE
TZID:America/New_York
BEGIN:DAYLIGHT
TZOFFSETFROM:-0500
TZOFFSETTO:-0400
TZNAME:EDT
DTSTART:20250309T070000
END:DAYLIGHT
BEGIN:STANDARD
TZOFFSETFROM:-0400
TZOFFSETTO:-0500
TZNAME:EST
DTSTART:20251102T060000
END:STANDARD
BEGIN:DAYLIGHT
TZOFFSETFROM:-0500
TZOFFSETTO:-0400
TZNAME:EDT
DTSTART:20260308T070000
END:DAYLIGHT
BEGIN:STANDARD
TZOFFSETFROM:-0400
TZOFFSETTO:-0500
TZNAME:EST
DTSTART:20261101T060000
END:STANDARD
BEGIN:DAYLIGHT
TZOFFSETFROM:-0500
TZOFFSETTO:-0400
TZNAME:EDT
DTSTART:20270314T070000
END:DAYLIGHT
BEGIN:STANDARD
TZOFFSETFROM:-0400
TZOFFSETTO:-0500
TZNAME:EST
DTSTART:20271107T060000
END:STANDARD
END:VTIMEZONE
BEGIN:VEVENT
DTSTART;TZID=America/New_York:20260828T193000
DTEND;TZID=America/New_York:20260828T220000
DTSTAMP:20260423T205852
CREATED:20260317T151337Z
LAST-MODIFIED:20260317T151337Z
UID:10000629-1787945400-1787954400@wers.org
SUMMARY:Empire of the Sun
DESCRIPTION:Don’t miss out on electro-pop duo Empire of the Sun\, as they make their way to Boston! \nTickets and more information can be found here.
URL:https://wers.org/event/empire-of-the-sun/
LOCATION:Xfinity Center\, 885 S Main St\, Mansfield\, MA 02048\, Mansfield\, Massachussetts\, 02048
CATEGORIES:Concert
ATTACH;FMTTYPE=image/jpeg:https://wers.org/wp-content/uploads/2026/03/Static_Social-Instagram_1080x1080_EmpireOfTheSun_2026_Regional_XfinityCenter_0828.jpg
END:VEVENT
END:VCALENDAR