BEGIN:VCALENDAR
VERSION:2.0
PRODID:-//WERS 88.9FM - ECPv6.15.18//NONSGML v1.0//EN
CALSCALE:GREGORIAN
METHOD:PUBLISH
X-WR-CALNAME:WERS 88.9FM
X-ORIGINAL-URL:https://wers.org
X-WR-CALDESC:Events for WERS 88.9FM
REFRESH-INTERVAL;VALUE=DURATION:PT1H
X-Robots-Tag:noindex
X-PUBLISHED-TTL:PT1H
BEGIN:VTIMEZONE
TZID:America/New_York
BEGIN:DAYLIGHT
TZOFFSETFROM:-0500
TZOFFSETTO:-0400
TZNAME:EDT
DTSTART:20250309T070000
END:DAYLIGHT
BEGIN:STANDARD
TZOFFSETFROM:-0400
TZOFFSETTO:-0500
TZNAME:EST
DTSTART:20251102T060000
END:STANDARD
BEGIN:DAYLIGHT
TZOFFSETFROM:-0500
TZOFFSETTO:-0400
TZNAME:EDT
DTSTART:20260308T070000
END:DAYLIGHT
BEGIN:STANDARD
TZOFFSETFROM:-0400
TZOFFSETTO:-0500
TZNAME:EST
DTSTART:20261101T060000
END:STANDARD
BEGIN:DAYLIGHT
TZOFFSETFROM:-0500
TZOFFSETTO:-0400
TZNAME:EDT
DTSTART:20270314T070000
END:DAYLIGHT
BEGIN:STANDARD
TZOFFSETFROM:-0400
TZOFFSETTO:-0500
TZNAME:EST
DTSTART:20271107T060000
END:STANDARD
END:VTIMEZONE
BEGIN:VEVENT
DTSTART;TZID=America/New_York:20260316T190000
DTEND;TZID=America/New_York:20260316T230000
DTSTAMP:20260423T153148
CREATED:20251104T191752Z
LAST-MODIFIED:20251104T191752Z
UID:10000195-1773687600-1773702000@wers.org
SUMMARY:Dropkick Murphys
DESCRIPTION:Dropkick Murphys return to MGM Music Hall at Fenway for their annual St. Patty’s weekend shows! \nSee them Fri Mar 13\, Sat Mar 14\, and Sun Mar 15. \nHaywire will be opening all 3 shows\, with more TBA. \nTickets and more info here. \n 
URL:https://wers.org/event/dropkick-murphys/2026-03-16/
LOCATION:MGM Music Hall at Fenway\, 2 Lansdowne St\, Boston\, MA 02215\, Boston\, Massachussetts\, 02215
CATEGORIES:Concert
ATTACH;FMTTYPE=image/jpeg:https://wers.org/wp-content/uploads/2025/11/031326_DKM.jpg
END:VEVENT
END:VCALENDAR